Package: geNetClassifier Version: 1.40.0 Command: /home/biocbuild/bbs-3.17-bioc/R/bin/R CMD check --install=check:geNetClassifier.install-out.txt --library=/home/biocbuild/bbs-3.17-bioc/R/site-library --timings geNetClassifier_1.40.0.tar.gz StartedAt: 2023-10-15 21:33:27 -0400 (Sun, 15 Oct 2023) EndedAt: 2023-10-15 21:34:25 -0400 (Sun, 15 Oct 2023) EllapsedTime: 58.6 seconds RetCode: 0 Status: OK CheckDir: geNetClassifier.Rcheck Warnings: 0