Package: geNetClassifier Version: 1.40.0 Command: /Library/Frameworks/R.framework/Resources/bin/R CMD build --keep-empty-dirs --no-resave-data geNetClassifier StartedAt: 2023-10-15 18:30:31 -0400 (Sun, 15 Oct 2023) EndedAt: 2023-10-15 18:31:16 -0400 (Sun, 15 Oct 2023) EllapsedTime: 45.6 seconds RetCode: 0 Status: OK PackageFile: geNetClassifier_1.40.0.tar.gz PackageFileSize: 3.94 MiB