Package: geNetClassifier Version: 1.40.0 Command: rm -rf geNetClassifier.buildbin-libdir && mkdir geNetClassifier.buildbin-libdir && /Users/biocbuild/BBS/utils/build-universal.sh geNetClassifier_1.40.0.tar.gz /Library/Frameworks/R.framework/Resources/bin/R geNetClassifier.buildbin-libdir StartedAt: 2023-10-16 09:27:22 -0400 (Mon, 16 Oct 2023) EndedAt: 2023-10-16 09:27:59 -0400 (Mon, 16 Oct 2023) EllapsedTime: 36.2 seconds RetCode: 0 Status: OK PackageFile: geNetClassifier_1.40.0.tgz PackageFileSize: 3.238 MiB