Package: gcrma Version: 2.72.0 Command: /home/biocbuild/bbs-3.17-bioc/R/bin/R CMD check --install=check:gcrma.install-out.txt --library=/home/biocbuild/bbs-3.17-bioc/R/site-library --timings gcrma_2.72.0.tar.gz StartedAt: 2023-10-15 21:28:55 -0400 (Sun, 15 Oct 2023) EndedAt: 2023-10-15 21:30:39 -0400 (Sun, 15 Oct 2023) EllapsedTime: 103.9 seconds RetCode: 0 Status: OK CheckDir: gcrma.Rcheck Warnings: 0