Package: gcrma Version: 2.72.0 Command: /home/biocbuild/bbs-3.17-bioc/R/bin/R CMD build --keep-empty-dirs --no-resave-data gcrma StartedAt: 2023-10-15 16:52:21 -0400 (Sun, 15 Oct 2023) EndedAt: 2023-10-15 16:52:35 -0400 (Sun, 15 Oct 2023) EllapsedTime: 14.2 seconds RetCode: 0 Status: OK PackageFile: gcrma_2.72.0.tar.gz PackageFileSize: 148.4 KiB