Package: garfield Version: 1.28.0 Command: /Library/Frameworks/R.framework/Resources/bin/R CMD check --install=check:garfield.install-out.txt --library=/Library/Frameworks/R.framework/Resources/library --no-vignettes --timings garfield_1.28.0.tar.gz StartedAt: 2023-10-16 01:52:25 -0400 (Mon, 16 Oct 2023) EndedAt: 2023-10-16 01:53:14 -0400 (Mon, 16 Oct 2023) EllapsedTime: 49.1 seconds RetCode: 0 Status: OK CheckDir: garfield.Rcheck Warnings: 0