Package: gaggle Version: 1.68.0 Command: F:\biocbuild\bbs-3.17-bioc\R\bin\R.exe CMD INSTALL gaggle StartedAt: 2023-10-15 15:51:06 -0400 (Sun, 15 Oct 2023) EndedAt: 2023-10-15 15:51:14 -0400 (Sun, 15 Oct 2023) EllapsedTime: 8.1 seconds RetCode: 0 Status: OK