Package: gaggle Version: 1.68.0 Command: rm -rf gaggle.buildbin-libdir && mkdir gaggle.buildbin-libdir && F:\biocbuild\bbs-3.17-bioc\R\bin\R.exe CMD INSTALL --build --library=gaggle.buildbin-libdir gaggle_1.68.0.tar.gz StartedAt: 2023-10-16 08:49:38 -0400 (Mon, 16 Oct 2023) EndedAt: 2023-10-16 08:49:45 -0400 (Mon, 16 Oct 2023) EllapsedTime: 7.2 seconds RetCode: 0 Status: OK PackageFile: gaggle_1.68.0.zip PackageFileSize: 305.6 KiB