Package: gaggle Version: 1.68.0 Command: /home/biocbuild/bbs-3.17-bioc/R/bin/R CMD build --keep-empty-dirs --no-resave-data gaggle StartedAt: 2023-10-15 16:51:50 -0400 (Sun, 15 Oct 2023) EndedAt: 2023-10-15 16:51:57 -0400 (Sun, 15 Oct 2023) EllapsedTime: 6.6 seconds RetCode: 0 Status: OK PackageFile: gaggle_1.68.0.tar.gz PackageFileSize: 285.6 KiB