Package: gaggle Version: 1.68.0 Command: /Library/Frameworks/R.framework/Resources/bin/R CMD check --install=check:gaggle.install-out.txt --library=/Library/Frameworks/R.framework/Resources/library --no-vignettes --timings gaggle_1.68.0.tar.gz StartedAt: 2023-10-16 01:52:17 -0400 (Mon, 16 Oct 2023) EndedAt: 2023-10-16 01:53:49 -0400 (Mon, 16 Oct 2023) EllapsedTime: 92.3 seconds RetCode: 0 Status: OK CheckDir: gaggle.Rcheck Warnings: 0