Package: gaggle Version: 1.68.0 Command: /Library/Frameworks/R.framework/Resources/bin/R CMD build --keep-empty-dirs --no-resave-data gaggle StartedAt: 2023-10-15 18:25:23 -0400 (Sun, 15 Oct 2023) EndedAt: 2023-10-15 18:25:42 -0400 (Sun, 15 Oct 2023) EllapsedTime: 19.3 seconds RetCode: 0 Status: OK PackageFile: gaggle_1.68.0.tar.gz PackageFileSize: 285.5 KiB