Package: gaga Version: 2.46.0 Command: F:\biocbuild\bbs-3.17-bioc\R\bin\R.exe CMD INSTALL gaga StartedAt: 2023-10-15 15:54:46 -0400 (Sun, 15 Oct 2023) EndedAt: 2023-10-15 15:55:06 -0400 (Sun, 15 Oct 2023) EllapsedTime: 20.0 seconds RetCode: 0 Status: OK