Package: gaga Version: 2.46.0 Command: rm -rf gaga.buildbin-libdir && mkdir gaga.buildbin-libdir && /Users/biocbuild/BBS/utils/build-universal.sh gaga_2.46.0.tar.gz /Library/Frameworks/R.framework/Resources/bin/R gaga.buildbin-libdir StartedAt: 2023-10-16 09:26:00 -0400 (Mon, 16 Oct 2023) EndedAt: 2023-10-16 09:26:44 -0400 (Mon, 16 Oct 2023) EllapsedTime: 43.8 seconds RetCode: 0 Status: OK PackageFile: gaga_2.46.0.tgz PackageFileSize: 784.7 KiB