Package: gCrisprTools Version: 2.6.0 Command: rm -rf gCrisprTools.buildbin-libdir && mkdir gCrisprTools.buildbin-libdir && F:\biocbuild\bbs-3.17-bioc\R\bin\R.exe CMD INSTALL --build --library=gCrisprTools.buildbin-libdir gCrisprTools_2.6.0.tar.gz StartedAt: 2023-10-16 08:49:57 -0400 (Mon, 16 Oct 2023) EndedAt: 2023-10-16 08:50:29 -0400 (Mon, 16 Oct 2023) EllapsedTime: 32.9 seconds RetCode: 0 Status: OK PackageFile: gCrisprTools_2.6.0.zip PackageFileSize: 3.32 MiB