Package: funtooNorm Version: 1.24.0 Command: F:\biocbuild\bbs-3.17-bioc\R\bin\R.exe CMD check --no-multiarch --install=check:funtooNorm.install-out.txt --library=F:\biocbuild\bbs-3.17-bioc\R\library --no-vignettes --timings funtooNorm_1.24.0.tar.gz StartedAt: 2023-10-16 02:19:41 -0400 (Mon, 16 Oct 2023) EndedAt: 2023-10-16 02:26:35 -0400 (Mon, 16 Oct 2023) EllapsedTime: 414.7 seconds RetCode: 0 Status: WARNINGS CheckDir: funtooNorm.Rcheck Warnings: 2