Package: funtooNorm Version: 1.24.0 Command: chmod a+r funtooNorm -R && F:\biocbuild\bbs-3.17-bioc\R\bin\R.exe CMD build --keep-empty-dirs --no-resave-data funtooNorm StartedAt: 2023-10-15 19:22:13 -0400 (Sun, 15 Oct 2023) EndedAt: 2023-10-15 19:22:15 -0400 (Sun, 15 Oct 2023) EllapsedTime: 2.0 seconds RetCode: 0 Status: OK PackageFile: funtooNorm_1.24.0.tar.gz PackageFileSize: 2.458 MiB