Package: funtooNorm Version: 1.24.0 Command: /home/biocbuild/bbs-3.17-bioc/R/bin/R CMD check --install=check:funtooNorm.install-out.txt --library=/home/biocbuild/bbs-3.17-bioc/R/site-library --timings funtooNorm_1.24.0.tar.gz StartedAt: 2023-10-15 21:26:21 -0400 (Sun, 15 Oct 2023) EndedAt: 2023-10-15 21:33:03 -0400 (Sun, 15 Oct 2023) EllapsedTime: 401.7 seconds RetCode: 0 Status: WARNINGS CheckDir: funtooNorm.Rcheck Warnings: 2