Package: frma Version: 1.52.0 Command: chmod a+r frma -R && F:\biocbuild\bbs-3.17-bioc\R\bin\R.exe CMD build --keep-empty-dirs --no-resave-data frma StartedAt: 2023-10-15 19:21:57 -0400 (Sun, 15 Oct 2023) EndedAt: 2023-10-15 19:23:09 -0400 (Sun, 15 Oct 2023) EllapsedTime: 71.3 seconds RetCode: 0 Status: OK PackageFile: frma_1.52.0.tar.gz PackageFileSize: 148.9 KiB