Package: frma Version: 1.52.0 Command: rm -rf frma.buildbin-libdir && mkdir frma.buildbin-libdir && F:\biocbuild\bbs-3.17-bioc\R\bin\R.exe CMD INSTALL --build --library=frma.buildbin-libdir frma_1.52.0.tar.gz StartedAt: 2023-10-16 08:49:22 -0400 (Mon, 16 Oct 2023) EndedAt: 2023-10-16 08:50:01 -0400 (Mon, 16 Oct 2023) EllapsedTime: 39.1 seconds RetCode: 0 Status: OK PackageFile: frma_1.52.0.zip PackageFileSize: 593.1 KiB