Package: frma Version: 1.52.0 Command: /home/biocbuild/bbs-3.17-bioc/R/bin/R CMD check --install=check:frma.install-out.txt --library=/home/biocbuild/bbs-3.17-bioc/R/site-library --timings frma_1.52.0.tar.gz StartedAt: 2023-10-15 21:26:08 -0400 (Sun, 15 Oct 2023) EndedAt: 2023-10-15 21:31:48 -0400 (Sun, 15 Oct 2023) EllapsedTime: 339.7 seconds RetCode: 0 Status: OK CheckDir: frma.Rcheck Warnings: 0