Package: frma Version: 1.52.0 Command: /home/biocbuild/bbs-3.17-bioc/R/bin/R CMD build --keep-empty-dirs --no-resave-data frma StartedAt: 2023-10-15 16:50:54 -0400 (Sun, 15 Oct 2023) EndedAt: 2023-10-15 16:51:53 -0400 (Sun, 15 Oct 2023) EllapsedTime: 59.4 seconds RetCode: 0 Status: OK PackageFile: frma_1.52.0.tar.gz PackageFileSize: 145.8 KiB