Package: frma Version: 1.52.0 Command: /Library/Frameworks/R.framework/Resources/bin/R CMD check --install=check:frma.install-out.txt --library=/Library/Frameworks/R.framework/Resources/library --no-vignettes --timings frma_1.52.0.tar.gz StartedAt: 2023-10-16 01:51:08 -0400 (Mon, 16 Oct 2023) EndedAt: 2023-10-16 01:59:12 -0400 (Mon, 16 Oct 2023) EllapsedTime: 483.3 seconds RetCode: 0 Status: OK CheckDir: frma.Rcheck Warnings: 0