Package: frma Version: 1.52.0 Command: /Library/Frameworks/R.framework/Resources/bin/R CMD build --keep-empty-dirs --no-resave-data frma StartedAt: 2023-10-15 18:24:43 -0400 (Sun, 15 Oct 2023) EndedAt: 2023-10-15 18:27:02 -0400 (Sun, 15 Oct 2023) EllapsedTime: 138.4 seconds RetCode: 0 Status: OK PackageFile: frma_1.52.0.tar.gz PackageFileSize: 288.2 KiB