Package: frma Version: 1.52.0 Command: rm -rf frma.buildbin-libdir && mkdir frma.buildbin-libdir && /Users/biocbuild/BBS/utils/build-universal.sh frma_1.52.0.tar.gz /Library/Frameworks/R.framework/Resources/bin/R frma.buildbin-libdir StartedAt: 2023-10-16 09:25:49 -0400 (Mon, 16 Oct 2023) EndedAt: 2023-10-16 09:27:12 -0400 (Mon, 16 Oct 2023) EllapsedTime: 82.4 seconds RetCode: 0 Status: OK PackageFile: frma_1.52.0.tgz PackageFileSize: 730.4 KiB