Package: frenchFISH Version: 1.12.0 Command: F:\biocbuild\bbs-3.17-bioc\R\bin\R.exe CMD check --no-multiarch --install=check:frenchFISH.install-out.txt --library=F:\biocbuild\bbs-3.17-bioc\R\library --no-vignettes --timings frenchFISH_1.12.0.tar.gz StartedAt: 2023-10-16 02:18:29 -0400 (Mon, 16 Oct 2023) EndedAt: 2023-10-16 02:18:56 -0400 (Mon, 16 Oct 2023) EllapsedTime: 27.3 seconds RetCode: 0 Status: OK CheckDir: frenchFISH.Rcheck Warnings: 0