Package: frenchFISH Version: 1.12.0 Command: chmod a+r frenchFISH -R && F:\biocbuild\bbs-3.17-bioc\R\bin\R.exe CMD build --keep-empty-dirs --no-resave-data frenchFISH StartedAt: 2023-10-15 19:21:56 -0400 (Sun, 15 Oct 2023) EndedAt: 2023-10-15 19:22:02 -0400 (Sun, 15 Oct 2023) EllapsedTime: 6.8 seconds RetCode: 0 Status: OK PackageFile: frenchFISH_1.12.0.tar.gz PackageFileSize: 21.1 KiB