Package: frenchFISH Version: 1.12.0 Command: /Library/Frameworks/R.framework/Resources/bin/R CMD build --keep-empty-dirs --no-resave-data frenchFISH StartedAt: 2023-10-15 18:24:31 -0400 (Sun, 15 Oct 2023) EndedAt: 2023-10-15 18:24:43 -0400 (Sun, 15 Oct 2023) EllapsedTime: 12.8 seconds RetCode: 0 Status: OK PackageFile: frenchFISH_1.12.0.tar.gz PackageFileSize: 21 KiB