Package: fobitools Version: 1.8.0 Command: F:\biocbuild\bbs-3.17-bioc\R\bin\R.exe CMD check --no-multiarch --install=check:fobitools.install-out.txt --library=F:\biocbuild\bbs-3.17-bioc\R\library --no-vignettes --timings fobitools_1.8.0.tar.gz StartedAt: 2023-10-16 02:18:25 -0400 (Mon, 16 Oct 2023) EndedAt: 2023-10-16 02:22:37 -0400 (Mon, 16 Oct 2023) EllapsedTime: 252.7 seconds RetCode: 0 Status: OK CheckDir: fobitools.Rcheck Warnings: 0