Package: fobitools Version: 1.8.0 Command: /home/biocbuild/bbs-3.17-bioc/R/bin/R CMD check --install=check:fobitools.install-out.txt --library=/home/biocbuild/bbs-3.17-bioc/R/site-library --timings fobitools_1.8.0.tar.gz StartedAt: 2023-10-15 21:25:35 -0400 (Sun, 15 Oct 2023) EndedAt: 2023-10-15 21:30:17 -0400 (Sun, 15 Oct 2023) EllapsedTime: 282.0 seconds RetCode: 0 Status: OK CheckDir: fobitools.Rcheck Warnings: 0