Package: fmrs Version: 1.10.0 Command: rm -rf fmrs.buildbin-libdir && mkdir fmrs.buildbin-libdir && F:\biocbuild\bbs-3.17-bioc\R\bin\R.exe CMD INSTALL --build --library=fmrs.buildbin-libdir fmrs_1.10.0.tar.gz StartedAt: 2023-10-16 08:49:13 -0400 (Mon, 16 Oct 2023) EndedAt: 2023-10-16 08:49:29 -0400 (Mon, 16 Oct 2023) EllapsedTime: 15.7 seconds RetCode: 0 Status: OK PackageFile: fmrs_1.10.0.zip PackageFileSize: 174.6 KiB