Package: fmrs Version: 1.10.0 Command: /Library/Frameworks/R.framework/Resources/bin/R CMD INSTALL fmrs StartedAt: 2023-10-15 15:58:35 -0400 (Sun, 15 Oct 2023) EndedAt: 2023-10-15 15:59:02 -0400 (Sun, 15 Oct 2023) EllapsedTime: 27.1 seconds RetCode: 0 Status: OK