Package: flowWorkspace Version: 4.12.2 Command: /home/biocbuild/bbs-3.17-bioc/R/bin/R CMD INSTALL flowWorkspace StartedAt: 2023-10-15 15:14:28 -0400 (Sun, 15 Oct 2023) EndedAt: 2023-10-15 15:16:40 -0400 (Sun, 15 Oct 2023) EllapsedTime: 132.7 seconds RetCode: 0 Status: OK