Package: flowWorkspace Version: 4.12.2 Command: /home/biocbuild/bbs-3.17-bioc/R/bin/R CMD check --install=check:flowWorkspace.install-out.txt --library=/home/biocbuild/bbs-3.17-bioc/R/site-library --timings flowWorkspace_4.12.2.tar.gz StartedAt: 2023-10-15 21:25:11 -0400 (Sun, 15 Oct 2023) EndedAt: 2023-10-15 21:28:36 -0400 (Sun, 15 Oct 2023) EllapsedTime: 205.1 seconds RetCode: 0 Status: WARNINGS CheckDir: flowWorkspace.Rcheck Warnings: 6