Package: flowViz Version: 1.64.0 Command: chmod a+r flowViz -R && F:\biocbuild\bbs-3.17-bioc\R\bin\R.exe CMD build --keep-empty-dirs --no-resave-data flowViz StartedAt: 2023-10-15 19:20:09 -0400 (Sun, 15 Oct 2023) EndedAt: 2023-10-15 19:25:09 -0400 (Sun, 15 Oct 2023) EllapsedTime: 299.2 seconds RetCode: 0 Status: OK PackageFile: flowViz_1.64.0.tar.gz PackageFileSize: 661.9 KiB