Package: flowViz Version: 1.64.0 Command: /home/biocbuild/bbs-3.17-bioc/R/bin/R CMD INSTALL flowViz StartedAt: 2023-10-15 15:14:50 -0400 (Sun, 15 Oct 2023) EndedAt: 2023-10-15 15:15:02 -0400 (Sun, 15 Oct 2023) EllapsedTime: 11.9 seconds RetCode: 0 Status: OK