Package: flowViz Version: 1.64.0 Command: /home/biocbuild/bbs-3.17-bioc/R/bin/R CMD check --install=check:flowViz.install-out.txt --library=/home/biocbuild/bbs-3.17-bioc/R/site-library --timings flowViz_1.64.0.tar.gz StartedAt: 2023-10-15 21:25:06 -0400 (Sun, 15 Oct 2023) EndedAt: 2023-10-15 21:28:04 -0400 (Sun, 15 Oct 2023) EllapsedTime: 178.4 seconds RetCode: 0 Status: OK CheckDir: flowViz.Rcheck Warnings: 0