Package: flowViz Version: 1.64.0 Command: rm -rf flowViz.buildbin-libdir && mkdir flowViz.buildbin-libdir && /Users/biocbuild/BBS/utils/build-universal.sh flowViz_1.64.0.tar.gz /Library/Frameworks/R.framework/Resources/bin/R flowViz.buildbin-libdir StartedAt: 2023-10-16 09:25:25 -0400 (Mon, 16 Oct 2023) EndedAt: 2023-10-16 09:26:07 -0400 (Mon, 16 Oct 2023) EllapsedTime: 41.8 seconds RetCode: 0 Status: OK PackageFile: flowViz_1.64.0.tgz PackageFileSize: 1.229 MiB