Package: flowVS Version: 1.32.0 Command: /Library/Frameworks/R.framework/Resources/bin/R CMD check --install=check:flowVS.install-out.txt --library=/Library/Frameworks/R.framework/Resources/library --no-vignettes --timings flowVS_1.32.0.tar.gz StartedAt: 2023-10-16 01:49:26 -0400 (Mon, 16 Oct 2023) EndedAt: 2023-10-16 01:54:40 -0400 (Mon, 16 Oct 2023) EllapsedTime: 314.0 seconds RetCode: 0 Status: OK CheckDir: flowVS.Rcheck Warnings: 0