Package: flowTrans Version: 1.52.0 Command: /Library/Frameworks/R.framework/Resources/bin/R CMD check --install=check:flowTrans.install-out.txt --library=/Library/Frameworks/R.framework/Resources/library --no-vignettes --timings flowTrans_1.52.0.tar.gz StartedAt: 2023-10-16 01:49:03 -0400 (Mon, 16 Oct 2023) EndedAt: 2023-10-16 01:51:44 -0400 (Mon, 16 Oct 2023) EllapsedTime: 161.4 seconds RetCode: 0 Status: OK CheckDir: flowTrans.Rcheck Warnings: 0