Package: flowTrans Version: 1.52.0 Command: rm -rf flowTrans.buildbin-libdir && mkdir flowTrans.buildbin-libdir && /Users/biocbuild/BBS/utils/build-universal.sh flowTrans_1.52.0.tar.gz /Library/Frameworks/R.framework/Resources/bin/R flowTrans.buildbin-libdir StartedAt: 2023-10-16 09:25:20 -0400 (Mon, 16 Oct 2023) EndedAt: 2023-10-16 09:25:50 -0400 (Mon, 16 Oct 2023) EllapsedTime: 29.9 seconds RetCode: 0 Status: OK PackageFile: flowTrans_1.52.0.tgz PackageFileSize: 523 KiB