Package: flowSpecs Version: 1.14.0 Command: /Library/Frameworks/R.framework/Resources/bin/R CMD check --install=check:flowSpecs.install-out.txt --library=/Library/Frameworks/R.framework/Resources/library --no-vignettes --timings flowSpecs_1.14.0.tar.gz StartedAt: 2023-10-16 01:48:44 -0400 (Mon, 16 Oct 2023) EndedAt: 2023-10-16 01:52:25 -0400 (Mon, 16 Oct 2023) EllapsedTime: 221.2 seconds RetCode: 0 Status: OK CheckDir: flowSpecs.Rcheck Warnings: 0