Package: flowSpecs Version: 1.14.0 Command: rm -rf flowSpecs.buildbin-libdir && mkdir flowSpecs.buildbin-libdir && /Users/biocbuild/BBS/utils/build-universal.sh flowSpecs_1.14.0.tar.gz /Library/Frameworks/R.framework/Resources/bin/R flowSpecs.buildbin-libdir StartedAt: 2023-10-16 09:25:10 -0400 (Mon, 16 Oct 2023) EndedAt: 2023-10-16 09:25:44 -0400 (Mon, 16 Oct 2023) EllapsedTime: 33.8 seconds RetCode: 0 Status: OK PackageFile: flowSpecs_1.14.0.tgz PackageFileSize: 3.554 MiB