Package: flowPlots Version: 1.48.0 Command: F:\biocbuild\bbs-3.17-bioc\R\bin\R.exe CMD INSTALL flowPlots StartedAt: 2023-10-15 15:47:15 -0400 (Sun, 15 Oct 2023) EndedAt: 2023-10-15 15:47:27 -0400 (Sun, 15 Oct 2023) EllapsedTime: 11.8 seconds RetCode: 0 Status: OK