Package: flowPlots Version: 1.48.0 Command: F:\biocbuild\bbs-3.17-bioc\R\bin\R.exe CMD check --no-multiarch --install=check:flowPlots.install-out.txt --library=F:\biocbuild\bbs-3.17-bioc\R\library --no-vignettes --timings flowPlots_1.48.0.tar.gz StartedAt: 2023-10-16 02:16:24 -0400 (Mon, 16 Oct 2023) EndedAt: 2023-10-16 02:17:00 -0400 (Mon, 16 Oct 2023) EllapsedTime: 35.6 seconds RetCode: 0 Status: OK CheckDir: flowPlots.Rcheck Warnings: 0