Package: flowPlots Version: 1.48.0 Command: chmod a+r flowPlots -R && F:\biocbuild\bbs-3.17-bioc\R\bin\R.exe CMD build --keep-empty-dirs --no-resave-data flowPlots StartedAt: 2023-10-15 19:19:34 -0400 (Sun, 15 Oct 2023) EndedAt: 2023-10-15 19:19:54 -0400 (Sun, 15 Oct 2023) EllapsedTime: 20.0 seconds RetCode: 0 Status: OK PackageFile: flowPlots_1.48.0.tar.gz PackageFileSize: 455.2 KiB