Package: flowPlots Version: 1.48.0 Command: /home/biocbuild/bbs-3.17-bioc/R/bin/R CMD INSTALL flowPlots StartedAt: 2023-10-15 15:06:47 -0400 (Sun, 15 Oct 2023) EndedAt: 2023-10-15 15:06:55 -0400 (Sun, 15 Oct 2023) EllapsedTime: 7.9 seconds RetCode: 0 Status: OK