Package: flowPlots Version: 1.48.0 Command: /home/biocbuild/bbs-3.17-bioc/R/bin/R CMD build --keep-empty-dirs --no-resave-data flowPlots StartedAt: 2023-10-15 16:50:05 -0400 (Sun, 15 Oct 2023) EndedAt: 2023-10-15 16:50:15 -0400 (Sun, 15 Oct 2023) EllapsedTime: 10.3 seconds RetCode: 0 Status: OK PackageFile: flowPlots_1.48.0.tar.gz PackageFileSize: 453.5 KiB