Package: flowPlots Version: 1.48.0 Command: /Library/Frameworks/R.framework/Resources/bin/R CMD INSTALL flowPlots StartedAt: 2023-10-15 15:03:37 -0400 (Sun, 15 Oct 2023) EndedAt: 2023-10-15 15:04:00 -0400 (Sun, 15 Oct 2023) EllapsedTime: 22.8 seconds RetCode: 0 Status: OK