Package: flowPlots Version: 1.48.0 Command: /Library/Frameworks/R.framework/Resources/bin/R CMD build --keep-empty-dirs --no-resave-data flowPlots StartedAt: 2023-10-15 18:22:47 -0400 (Sun, 15 Oct 2023) EndedAt: 2023-10-15 18:23:43 -0400 (Sun, 15 Oct 2023) EllapsedTime: 55.9 seconds RetCode: 0 Status: OK PackageFile: flowPlots_1.48.0.tar.gz PackageFileSize: 635.6 KiB