Package: flowPloidy Version: 1.26.0 Command: chmod a+r flowPloidy -R && F:\biocbuild\bbs-3.17-bioc\R\bin\R.exe CMD build --keep-empty-dirs --no-resave-data flowPloidy StartedAt: 2023-10-15 19:19:26 -0400 (Sun, 15 Oct 2023) EndedAt: 2023-10-15 19:20:07 -0400 (Sun, 15 Oct 2023) EllapsedTime: 41.1 seconds RetCode: 0 Status: OK PackageFile: flowPloidy_1.26.0.tar.gz PackageFileSize: 2.336 MiB